BEGIN:VCALENDAR
VERSION:2.0
PRODID:-//https://www.ville-saintprest.fr///NONSGML kigkonsult.se iCalcreator 2.10.20//
METHOD:PUBLISH
X-WR-CALNAME:Evénements du site https://www.ville-saintprest.fr/
X-WR-TIMEZONE:Europe/Paris
BEGIN:VEVENT
UID:20260421T111631CEST-672022D4OE@https://www.ville-saintprest.fr/
DTSTAMP:20260421T091631Z
CATEGORIES:animations
COMMENT:Renseignements : 06 23 43 52 96 Buvette et parking Â 
DESCRIPTION:La Boule Saint-Prestoise organise un concours de pÃ©tanque en d
 oublettes ouvert Ã  toutes et Ã  tous DIMANCHE 26/04/2026 Ã  14h au boulod
 rome de Saint-PrestÂ  Â  Â  Â 
DTSTART:20260426T000000
DTEND:20260427T000000
SUMMARY:CONCOURS DE PÉTANQUE EN DOUBLETTES À LA MÊLÉE
END:VEVENT
BEGIN:VEVENT
UID:20260421T111631CEST-6723uobbVt@https://www.ville-saintprest.fr/
DTSTAMP:20260421T091631Z
CATEGORIES:animations
COMMENT:au FOYER COMMUNALLOUISE-MICHELÂ  de Benoit DelÃ©pine et Gustave Ker
 vern avec Yolande Moreau et Bouli Lanners (2008)Synopsis :Quelque part en 
 Picardie\, le patron d'une entreprise de cintres vide son usine dans la nu
 it pour la dÃ©localiser. Le lendemain\, les ouvriÃ¨res se rÃ©unissent et m
 ettent le peu d'argent de leurs indemnitÃ©s dans un projet commun : faire 
 buter le patron par un professionnel. Â TÃ©l : 06 83 58 08 21Â  Â cinepres
 t28@orange.fr  www.cineprest.fr Â  Â 
DESCRIPTION:Â  Â 
DTSTART:20260430T000000
DTEND:20260501T000000
SUMMARY:PROJECTION CINÉPREST - JEUDI 30/04 - 20H
END:VEVENT
BEGIN:VEVENT
UID:20260421T111631CEST-6726aUZIgB@https://www.ville-saintprest.fr/
DTSTAMP:20260421T091631Z
CATEGORIES:animations
COMMENT:TERRAIN DES GRAVIERS DE 06H Ã 18H Informations et inscriptions pou
 r emplacement (6 ml le stand) : TÃ©lÂ Â 06 28 72 11 82 ou par mail : assoc
 iationdechasse2@gmail.com TÃ©lÃ©chargez le bulletin d'inscription Date lim
 ite de rÃ©ception d'inscription : 25 avril 2026 Restauration sur place et 
 parking visiteurs Ã  proximitÃ©   Â 
DESCRIPTION:
DTSTART:20260503T000000
DTEND:20260504T000000
SUMMARY:INSCRIPTIONS BRIC-À-BRAC DE SAINT-PREST
END:VEVENT
END:VCALENDAR
